BEGIN:VCALENDAR
VERSION:2.0
PRODID:-//o-organismo - ECPv6.3.2//NONSGML v1.0//EN
CALSCALE:GREGORIAN
METHOD:PUBLISH
X-WR-CALNAME:o-organismo
X-ORIGINAL-URL:https://o-organismo.org
X-WR-CALDESC:évènements pour o-organismo
REFRESH-INTERVAL;VALUE=DURATION:PT1H
X-Robots-Tag:noindex
X-PUBLISHED-TTL:PT1H
BEGIN:VTIMEZONE
TZID:Europe/Paris
BEGIN:DAYLIGHT
TZOFFSETFROM:+0100
TZOFFSETTO:+0200
TZNAME:CEST
DTSTART:20240331T010000
END:DAYLIGHT
BEGIN:STANDARD
TZOFFSETFROM:+0200
TZOFFSETTO:+0100
TZNAME:CET
DTSTART:20241027T010000
END:STANDARD
END:VTIMEZONE
BEGIN:VEVENT
DTSTART;TZID=Europe/Paris:20240504T213000
DTEND;TZID=Europe/Paris:20240507T213000
DTSTAMP:20260422T123205
CREATED:20240502T133330Z
LAST-MODIFIED:20240502T133353Z
UID:2013-1714858200-1715117400@o-organismo.org
SUMMARY:Bukun Samakey Lille
DESCRIPTION:soirée samed 4 mai Bukun Samakey
URL:https://o-organismo.org/evenements/bukun-samakey-lille/
CATEGORIES:Bukun Samakey
END:VEVENT
END:VCALENDAR