BEGIN:VCALENDAR
VERSION:2.0
PRODID:-//o-organismo - ECPv6.3.2//NONSGML v1.0//EN
CALSCALE:GREGORIAN
METHOD:PUBLISH
X-ORIGINAL-URL:https://o-organismo.org
X-WR-CALDESC:évènements pour o-organismo
REFRESH-INTERVAL;VALUE=DURATION:PT1H
X-Robots-Tag:noindex
X-PUBLISHED-TTL:PT1H
BEGIN:VTIMEZONE
TZID:Europe/Paris
BEGIN:DAYLIGHT
TZOFFSETFROM:+0100
TZOFFSETTO:+0200
TZNAME:CEST
DTSTART:20240331T010000
END:DAYLIGHT
BEGIN:STANDARD
TZOFFSETFROM:+0200
TZOFFSETTO:+0100
TZNAME:CET
DTSTART:20241027T010000
END:STANDARD
END:VTIMEZONE
BEGIN:VEVENT
DTSTART;TZID=Europe/Paris:20240409T110000
DTEND;TZID=Europe/Paris:20240409T130000
DTSTAMP:20260422T140349
CREATED:20240228T165338Z
LAST-MODIFIED:20240315T104937Z
UID:1940-1712660400-1712667600@o-organismo.org
SUMMARY:Atelier Harmonie avec les Voix Anciennes
DESCRIPTION:La Source du Lys\, avec l’hospitalité chaleureuse de Rachèle Guéguen et Erika Louve. \nBienvenu à l’atelier Harmonie avec les Voix Anciennes\nBienvenue à « Harmonie avec les Voix Anciennes »\, un atelier de chant captivant qui vous plongera dans les histoires et les traditions du peuple Huni Kuin. Dans ce cadre enchanteur qu’offre la Source du Lys\, vous êtes invités à vous joindre à nous pour une expérience immersive où la musique\, la danse et les vibrations des instruments fusionnent pour créer une connexion profonde avec nos ancêtres et notre essence humaine. \nOffre spéciale : \n\nPossibilité de se peindre Huni Kuin sur place par l’artiste Yubeni Huni Kuin\, notre invité spécial à 10 euros\nDes instruments traditionnels du peuple Huni Kuin seront mis à disposition pour une expérience encore plus authentique\nVous pouvez apporter vos instruments \nDes thés légers seront servis pour agrémenter l’expérience.\nAcheter des produits artisanaux de Huni Kuin\n\n \nRejoignez-nous pour ce moment magique où nous célébrerons la richesse de notre Terre Mère et renforcerons notre connexion avec l’être humain tout simplement. La Source du Lys sera le théâtre d’une rencontre inoubliable avec les Voix Anciennes. \n– Yubeni est un musicien et chanteur talentueux de son peuple\, reconnu en tant que « Txana » pour être passeur de sa culture entre les peuples et territoires. Sa maîtrise exceptionnelle de l’instrument transcende les frontières culturelles\, invitant les auditeurs à s’embarquer pour un voyage singulier à travers les riches sonorités de son héritage indigène. \n– Il se réjouit de vous rencontrer et de partager avec vous les Sagesses Ancestrales de son peuple à travers ses chants et les danses de la forêt amazonienne. \n L’événement sera participatif\, ramenez vos instruments ! \nDATE : Mardi 09 d’avril 2024 \nHORAIRE: 11H00-13H00 \nLIEU: La Source du Lys\, Loire Atlantique \, 44450\, sur la commune de Divatte-sur-Loire  (30 min de Nantes\, 1h d’Angers\, 1h30 de Rennes\, 2h La Rochelle\, 4h de Paris de Bordeaux. \nSite online:  https://rachelegueguen.com/lieudebienetre/ \n INSCRIPTION \n\nContact : +33 6 10 49 57 36\n\n TARIF (Conseillé): 30 euros  adultes \n– Pour les personnes en difficultés financières (AVS\, Étudiants\,chômage) merci de rentrer en contact par email. \n Vos enfants sont les bienvenus pour partager ce moment musical. (valeur symbolique libre) \n Une vente d’artisanat Huni Kuin sera aussi en exposition. (Prévoir de l’espèce) \n Les fonds récoltés au cours de sa tournée serviront à développer l’autonomie alimentaire de son village. \n( En dehors des frais de mission) \n A l’occasion de sa tournée européenne\, Txana Yubeni Huni Kuin sera présente dans le secteur de la France du 16 février au 13 avril 2024. \n****Information : veuillez noter que dans le cadre de notre travail en tant que professionnels de projets audiovisuels autochtones (FlorestaTV) et la réalisation de matériels de communication officielle sur la cause que nous défendons\, l’ensemble de nos rencontres sont partiellement photographiées et filmées. En cas de désaccord de l’usage de votre image\, merci de rentrer en contact et nous informer sur place avant les événements pour ainsi en prendre les mesures nécessaires**** \nCet événement est organisé par Maria Domithila Marcello de l’association Huma Terra avec la participation de l’association Oorganismo.\n \nChaleureusement\, \nL’équipe Huma Terra et « Oorganismo » et partenaires
URL:https://o-organismo.org/evenements/atelier-harmonie-avec-les-voix-anciennes/
END:VEVENT
END:VCALENDAR