BEGIN:VCALENDAR
VERSION:2.0
PRODID:-//o-organismo - ECPv6.3.2//NONSGML v1.0//EN
CALSCALE:GREGORIAN
METHOD:PUBLISH
X-WR-CALNAME:o-organismo
X-ORIGINAL-URL:https://o-organismo.org
X-WR-CALDESC:évènements pour o-organismo
REFRESH-INTERVAL;VALUE=DURATION:PT1H
X-Robots-Tag:noindex
X-PUBLISHED-TTL:PT1H
BEGIN:VTIMEZONE
TZID:Europe/Paris
BEGIN:DAYLIGHT
TZOFFSETFROM:+0100
TZOFFSETTO:+0200
TZNAME:CEST
DTSTART:20240331T010000
END:DAYLIGHT
BEGIN:STANDARD
TZOFFSETFROM:+0200
TZOFFSETTO:+0100
TZNAME:CET
DTSTART:20241027T010000
END:STANDARD
END:VTIMEZONE
BEGIN:VEVENT
DTSTART;TZID=Europe/Paris:20240202T190000
DTEND;TZID=Europe/Paris:20240202T223000
DTSTAMP:20260422T171200
CREATED:20240221T143332Z
LAST-MODIFIED:20240221T144140Z
UID:1904-1706900400-1706913000@o-organismo.org
SUMMARY:cercles de médecine du tabac (Rapé) et de chants sacrés !
DESCRIPTION:Les vendredi 1er et samedi 2 mars 2024 à 19h\, à l’occasion de la tournée d’un mois du jeune txana (chanteur) du peuple autochtone Huni Kuin d’Amazonie\, Yubeni\, nous vous invitons pour deux cercles de médecine du tabac (R) et de chants sacrés !\nDans le studio Les Variations sur le Corps\, dans le 13ème arrondissement de Paris\, Yubeni partagera avec vous la médecine du tabac (R)\, médecine ancestrale de son peuple\, ainsi que des chants sacrés et des enseignements tirés de la forêt. Ces pratiques\, sans alcool\, sans psychotropes\, qu’avec de la joie\, sont de véritables outils de guérison pour le corps et l’âme !\nVéritable gardien de la Nature\, Yubeni qui vient du village de Novo Futuro – que Jiboiana a déjà soutenu à travers la construction d’un lac pour la pisciculture\, et soutiendra à travers leur programme de reforestation – fait face dans son village à une déforestation effrénée due à l’accaparement des terres alentours par les grands propriétaires fermiers\, qui créent des pâturages pour leur bétail – ainsi qu’à une pollution dévastatrice qui rend les eaux des fleuves inutilisables. Leur terre autochtone est ainsi l’un des seuls îlots restants de forêt préservée dans cette région\, gardant ainsi sur pied la biodiversité qui s’écroule.\nEn venant à nos événements\, vous soutenez le projet d’autonomie alimentaire de Novo Futuro ! La lutte du peuple Huni Kuin pour le Vivant… et nous permettez d’améliorer leurs conditions de vie. La moitié des fonds sera reversée aux Huni Kuin\, l’autre à Jiboiana pour l’organisation.\nEXTRA : une participation des membres de Jiboiana est à prévoir\, on va chanter pendant que Yubeni partagera le tabac !\nLes places sont limitées à 40.\n\nParticipation : 45 euros – via Paypal (bien vérifier de mettre l’option « entre proches » afin d’éviter la taxe) à cette adresse : landonleo@zoho.com\n\nÉcrivez à cette même adresse mail pour confirmer le transfert PayPal !\nINFOS PRATIQUES :\n19h ouverture des portes pour l’artisanat autochtone\n19h30 ouverture du cercle\n22h30 fin du cercle\nADRESSE :\nStudio Les Variations sur le corps – Square Dunois\, 75013 Paris\, France​ (galerie marchande\, derrière la ludothèque)\nVenez muni pour votre confort d’un coussin\, d’une tenue confortable\, d’une gourde pour l’eau.\nMerci de réserver vos places en avance ; si l’événement est complet nous l’indiquerons dans le titre de l’événement. Nous nous réservons le droit de refuser l’entrée si vous n’avez pas réservé et qu’il n’y a plus de place\, c’est pourquoi nous vous conseillons de la sécuriser !\nNous remercions grandement Maria et Mathilde\, qui prennent soin de Yubeni en Europe\, pour leur confiance en notre équipe !\nHaux Haux
URL:https://o-organismo.org/evenements/cercles-de-medecine-du-tabac-r-et-de-chants-sacres/
LOCATION:Studio Les Variations sur le corps\, Square Dunois\, Paris\, 75013
CATEGORIES:Yubeni huni kuin
ATTACH;FMTTYPE=image/jpeg:https://o-organismo.org/wp-content/uploads/2024/02/427987413_716480467272347_825469567054873497_n.jpg
ORGANIZER;CN="O Organismo":MAILTO:txana.mundo@gmail.com
END:VEVENT
BEGIN:VEVENT
DTSTART;TZID=Europe/Paris:20240216T180000
DTEND;TZID=Europe/Paris:20240216T213000
DTSTAMP:20260422T171200
CREATED:20240208T104858Z
LAST-MODIFIED:20240213T003059Z
UID:1498-1708106400-1708119000@o-organismo.org
SUMMARY:Cercle de chants et danses sacrées Huni-Kuin
DESCRIPTION:Txana Yubeni est un musicien et chanteur talentueux de son peuple reconnu entant pour être passeur de sa culture entre les peuples et territoires (« Txana » en langue originelle Hatxã Kuin). Sa maîtrise exceptionnelle de l’instrument transcende les frontières culturelles\, invitant les auditeurs à s’embarquer pour un voyage singulier à travers les riches sonorités de son héritage indigène. \nLe premier des événements en Suisse sera un Cercle de chants et danses sacrées  \nL’événement sera participatif\, ramenez vous instruments ! \nDate : Vendredi 16 Fevrier 2024\nHoraire: 18H00-21H30\nLieu: Ecole internationale sonotherapie\nChemin du curé-Déclouds 2\n1205 Thônex \nhttps://maps.app.goo.gl/LxkLHwJib6u9uhENA \n Parking\, bus et accès:\nZone bleue devant l’école\nBus 5 et 25\, arrêt de bus de Thônex\, Vallard (2min à pied)\nAccès : à 2 minutes de la sortie d’autoroute (A40) Thônex-Vallard \n Participation financière Libre & Consciente Conseillé : 40 CHF (adultes) + ou – en fonction de votre budget. \n Vos enfants sont les bienvenus pour partager ce moment musicale (gratuit) \n Inscription par message obligatoire: txana.mundo@gmail.com\nEn cas de désistement merci de bien vouloir nous informer. \n Une vente d’artisanat Huni Kuin sera aussi en exposition. \n Au delà des frais de missions pour que Yubani soit à nos cotés pour partager au plus grand nombre la sagesse Huni Kuin\, les fonds récoltés au cours de sa tournée serviront à développer l’autonomie alimentaire de son village et\, selon les fonds récoltés\, participer à un projet d’autonomie audiovisuel lui portant à cœur autour de la réalisation d’un film biographique de son plus grand idole:  » son grand-père «
URL:https://o-organismo.org/evenements/cercle-de-chants-et-danses-sacrees-huni-kuin/
LOCATION:Ecole internationale sonotherapie\, Chemin du curé-Déclouds 2\, 1205 Thônex\, Suisse
CATEGORIES:Yubeni huni kuin,Yubeni Suisse
ATTACH;FMTTYPE=image/jpeg:https://o-organismo.org/wp-content/uploads/2024/02/yubeni-1.jpg
END:VEVENT
BEGIN:VEVENT
DTSTART;TZID=Europe/Paris:20240218T190000
DTEND;TZID=Europe/Paris:20240218T220000
DTSTAMP:20260422T171200
CREATED:20240210T135322Z
LAST-MODIFIED:20240212T165705Z
UID:1751-1708282800-1708293600@o-organismo.org
SUMMARY:Rituel de médecine du tabac sacré avec Yubeni Huni Kuin
DESCRIPTION: Le rapé est une médecine utilisée par les populations indigènes Amazoniennes depuis des millénaires.\n– C’est un mélange complexe de diverses plantes d’Amazonie finement moulus\, avec pour ingrédient principal la Nicotiana rustica.\n– Les Pajè (hommes-médecines) de la forêt tropicale l’utilisent pour ré-équilibrer leurs énergies et se connecter avec leur moi supérieur et l’univers.\n– L’esprit du tabac nous relie à la terre-mère en favorisant l’enracinement\n– Le rapé est également utilisé pour nettoyer et désintoxiquer le corps.\n– Cette médecine n’a pas d’effets hallucinogènes.\n– Durant notre cérémonie\, plusieurs types de rapés seront proposés.\n\n Txana Yubeni vient du coeur de l’Amazonie brésilienne dans le village de Novo Futuro\, Etat de Acre.\n\n– Yubeni est un musicien et chanteur talentueux de son peuple\, reconnu entant que « Txana » pour être passeur de sa culture entre les peuples et territoires. Sa maîtrise exceptionnelle de l’instrument transcende les frontières culturelles\, invitant les auditeurs à s’embarquer pour un voyage singulier à travers les riches sonorités de son héritage indigène.\n– Il se réjouit de vous rencontrer et de partager avec vous les Sagesses Ancestrales de son peuples à travers ses chants et les médecines de la forêt amazonienne.\n\n DATE: Dimanche 18 Fevrier 2024\n HORAIRE: 19H00-22H00\n\n LIEU :\n– Nous serons acceuillis chez Benoît dans sa magnifique yourte à Sciez.\n– Les informations de localisation vous seront transmises une fois votre inscription confirmée.\n\n TARIF: 60€\n INSCRIPTION (places limitées) : via notre billeterie\n– Mail: txana.mundo@gmail.com\n– Pour les personnes en difficultés financières (AVS\, Étudiants\,.chômage) merci de rentrer en contact par email\n\n– Il sera proposé en supplément : la médecine Sananga (Collyre) + Peinture corporelle : 20€\n\n– Une vente d’artisanat Huni Kuin sera aussi en exposition.(Prévoir de l’espèce)\n\nAu delà des frais de missions\, les fonds récoltés au cours de sa tournée serviront à développer  des projets d’autonomie alimentaire de son village.\n\n MATÉRIEL NÉCESSAIRE à prévoir :\n– Tapis yoga/ coussin méditation / Plaid\n– Gourde d’eau/ Tasse pour les boissons chaudes\n– Papier hygiénique/ Mouchoir\n– Bassine\n– Vos instruments : Tambour\, djembé\, maracasse…
URL:https://o-organismo.org/evenements/rituel-de-medecine-du-tabac-sacre-avec-yubeni-huni-kuin/
CATEGORIES:Yubeni huni kuin,Yubeni Suisse
ATTACH;FMTTYPE=image/jpeg:https://o-organismo.org/wp-content/uploads/2024/02/1.jpg
END:VEVENT
BEGIN:VEVENT
DTSTART;TZID=Europe/Paris:20240219T203000
DTEND;TZID=Europe/Paris:20240220T010000
DTSTAMP:20260422T171200
CREATED:20240209T233107Z
LAST-MODIFIED:20240212T165722Z
UID:1695-1708374600-1708390800@o-organismo.org
SUMMARY:Cercle de la medecine de tabac avec Yubeni Huni Kuin
DESCRIPTION: Le rapé est une médecine utilisée par les populations indigènes Amazoniennes depuis des millénaires.\n– C’est un mélange complexe de diverses plantes d’Amazonie finement moulus\, avec pour ingrédient principal la Nicotiana rustica.\n– Les Pajè (hommes-médecines) de la forêt tropicale l’utilisent pour ré-équilibrer leurs énergies et se connecter avec leur moi supérieur et l’univers.\n– L’esprit du tabac nous relie à la terre-mère en favorisant l’enracinement\n– Le rapé est également utilisé pour nettoyer et désintoxiquer le corps.\n– Cette médecine n’a pas d’effets hallucinogènes.\n– Durant notre cérémonie\, plusieurs types de rapés seront proposés.\n Txana Yubeni vient du coeur de l’Amazonie brésilienne dans le village de Novo Futuro\, Etat de Acre.\n– Yubeni est un musicien et chanteur talentueux de son peuple\, reconnu entant que « Txana » pour être passeur de sa culture entre les peuples et territoires. Sa maîtrise exceptionnelle de l’instrument transcende les frontières culturelles\, invitant les auditeurs à s’embarquer pour un voyage singulier à travers les riches sonorités de son héritage indigène.\n– Il se réjouit de vous rencontrer et de partager avec vous les Sagesses Ancestrales de son peuples à travers ses chants et les médecines de la forêt amazonienne.\n DATE : Lundi 19 Février\n HORAIRE : 20H30-1H\nINSCRIPTION & TARIFS:\n(obligatoire\, places limitées)\n– Sur le site de notre partenaire  » TerrAliance »\nhttps://www.terralliance.ch/…/complet-cercle-de-rape…/\n– Une vente d’artisanat Huni Kuin sera aussi en exposition.(Prévoir de l’espèce)\n– Les fonds récoltés au cours de sa tournée serviront à développer l’autonomie alimentaire de son village.\n(En dehors des frais de mission)\n\n MATÉRIEL NÉCESSAIRE à prévoir :\n– Tapis yoga/ coussin méditation / Plaid\n– Gourde d’eau/ Tasse pour les boissons chaudes\n– Papier hygiénique/ Mouchoir\n– Bassine\n– Vos instruments : Tambour\, djembé\, maracas…\n A l’occasion de sa tournée européenne\, Txana Yubeni Hunikuin sera présent dans le secteur de la suisse du 16 au 25 Fevrier 2024\n– Retrouvez la programmation complète de tous nos événements qui suivront entre les Alpes Françaises\, la Suisse\, le Nord de la France\, la Belgique\, La Vendée\, Dordogne\, Sud de France et Portugal en partenariat avec différentes associations internationales (telles que Huma Terra\, Jiboiana\, Terra Do Sol\, FlorestaTV\, Phare…)\nhttps://o-organismo.org\n\n chaleureusement \n\nL’équipe « O Organismo » et partenaires
URL:https://o-organismo.org/evenements/cercle-de-la-medecine-de-tabac/
LOCATION:sciez\, France
CATEGORIES:Yubeni huni kuin,Yubeni Suisse
ATTACH;FMTTYPE=image/png:https://o-organismo.org/wp-content/uploads/2024/02/18.02.-bannerrape-suisse.yubeni.16.02.banner.png
ORGANIZER;CN="O Organismo":MAILTO:txana.mundo@gmail.com
END:VEVENT
BEGIN:VEVENT
DTSTART;TZID=Europe/Paris:20240220T140000
DTEND;TZID=Europe/Paris:20240220T160000
DTSTAMP:20260422T171200
CREATED:20240211T114917Z
LAST-MODIFIED:20240213T003539Z
UID:1764-1708437600-1708444800@o-organismo.org
SUMMARY:Promenade en forêt et échanges de sagesses avec Yubeni Huni Kuin dans les montagnes de Corbeyrier
DESCRIPTION:Venez nous rejoindre dans cette merveilleuse nature en compagnie de Txana Yubeni \, venant partager ses connaissances et visions  du coeur de l’Amazonie brésilienne à nos forêts en Suisse. \nYubeni est un musicien et chanteur talentueux de son peuple\, reconnu entant que « Txana » pour être passeur de sa culture entre les peuples et territoires. Sa maîtrise exceptionnelle de l’instrument transcende les frontières culturelles\, invitant les auditeurs à s’embarquer pour un voyage singulier à travers les riches sonorités de son héritage indigène. \n– Il se réjouit de vous rencontrer et de partager avec vous les Sagesses Ancestrales de son peuples à travers ses chants et la médecine de la forêt amazonienne. \n🌿DATE: Mardi 20 Fevrier 2024 \n🌿HORAIRE : 14H à 16H \n🌿 LIEU : 1856 Corbeyrier \n– Les informations de localisation vous seront transmises une fois votre inscription confirmée. \n🌿 INSCRIPTION Par mail :\ntxana.mundo@gmail.com \n🌿 TARIF LIBRE (Conseillé): 20CHF \n– Pour les personnes en difficultés financières\, merci de rentrer en contact par email \n– Il sera proposé en supplément : la médecine du rapé : 20CHF \n🌿 Les fonds récoltés au cours de sa tournée serviront à développer l’autonomie alimentaire de son village. ( En dehors des frais de mission) \n🌟 A l’occasion de sa tournée européenne\, Txana Yubeni Hunikuin sera présent dans le secteur de la suisse du 16 au 25 Fevrier 2024. \n– Retrouvez la programmation complète de tous nos événements qui suivront entre les Alpes Françaises\, la Suisse\, le Nord de la France\, la Belgique\, La Vendée\, Dordogne\, Sud de France et Portugal en partenariat avec différentes associations internationales partenaires via notre site internet: https://o-organismo.org \n🌞 chaleureusement 🌞 \nL’equipe O Organismo et partenaires.
URL:https://o-organismo.org/evenements/promenade-en-foret-et-echanges-de-sagesses-avec-yubeni-huni-kuin-dans-les-montagnes-de-corbeyer/
CATEGORIES:Yubeni huni kuin,Yubeni Suisse
ATTACH;FMTTYPE=image/jpeg:https://o-organismo.org/wp-content/uploads/2024/02/suisse-montagne-yubeni.jpg
END:VEVENT
BEGIN:VEVENT
DTSTART;TZID=Europe/Paris:20240222T140000
DTEND;TZID=Europe/Paris:20240222T160000
DTSTAMP:20260422T171200
CREATED:20240221T140829Z
LAST-MODIFIED:20240221T154243Z
UID:1864-1708610400-1708617600@o-organismo.org
SUMMARY:Atelier éducatif: Chant\, danse\, maquillage pour tous.
DESCRIPTION: Venez nous rejoindre dans cette merveilleuse nature hivernal au milieu des jardins de Mamajah en compagnie de Txana Yubeni \, venant partager ses connaissances et visions du coeur de l’Amazonie brésilienne.\n-Yubeni est un musicien et chanteur talentueux de son peuple\, reconnu entant que « Txana » pour être passeur de sa culture entre les peuples et territoires. Sa maîtrise exceptionnelle de l’instrument transcende les frontières culturelles\, invitant les auditeurs à s’embarquer pour un voyage singulier à travers les riches sonorités de son héritage indigène.\n– Il se réjouit de vous rencontrer et de partager avec vous les Sagesses Ancestrales de son peuples à travers ses chants\, ses danses et peinture corporelle traditionnelles de la forêt amazonienne.\n L’atelier est participatif \, penser à prendre vis instruments si vous avez des maracas\, djembé ou tambour\nDATE: Jeudi 22 Février 2024\nHORAIRE : 14H à 16H\n LIEU : La Ferme de Mamajah\n20 Chemin des Blanchards\n1233 Bernex (Ge) Suisse\n– Nous serons dans un espace fermé légèrement chauffé\n– Parking de l’hôpital de Loex à proximité et TPG ligne 43.\n INSCRIPTION Par mail :\n– txana.mundo@gmail.com\n TARIF LIBRE Conseillé\n– Pour 1 enfant & 1 parent : 20 CHF\n– Pour les personnes en difficultés financières\, merci de rentrer en contact par email\n– Une vente de l’artisanat Huni Kuin sera aussi en exposition\n( Prévoir de l’espèce\, pas de Twint)\n Les fonds récoltés au cours de sa tournée serviront à développer l’autonomie alimentaire de son village. ( En dehors des frais de mission)\n A l’occasion de sa tournée européenne\, Txana Yubeni Hunikuin sera présent dans le secteur de la suisse du 16 au 25 Février 2024.\n– Retrouvez la programmation complète de tous nos événements qui suivront entre les Alpes Françaises\, la Suisse\, le Nord de la France\, la Belgique\, La Vendée\, Dordogne\, Sud de France et Portugal en partenariat avec différentes associations internationales partenaires via notre site internet: https://o-organismo.org\nChaleureusement \nL’équipe O Organismo et partenaires.
URL:https://o-organismo.org/evenements/atelier-educatif-chant-danse-maquillage-pour-tous/
LOCATION:La Ferme de Mamajah 20 Chemin des Blanchards 1233 Bernex (Ge) Suisse\, 20 Chemin des Blanchards\, Bernex\, (Ge)\, 1233\, Suisse
CATEGORIES:Yubeni huni kuin,Yubeni Suisse
ATTACH;FMTTYPE=image/jpeg:https://o-organismo.org/wp-content/uploads/2024/02/427936136_122114160308202337_3097343410516467784_n.jpg
ORGANIZER;CN="O Organismo":MAILTO:txana.mundo@gmail.com
END:VEVENT
BEGIN:VEVENT
DTSTART;TZID=Europe/Paris:20240222T190000
DTEND;TZID=Europe/Paris:20240222T220000
DTSTAMP:20260422T171200
CREATED:20240221T142023Z
LAST-MODIFIED:20240221T154132Z
UID:1897-1708628400-1708639200@o-organismo.org
SUMMARY:CERCLES DE CHANTS ET DANSES SACRÉES de tradition Hunikuin
DESCRIPTION:xana Yubeni vient du coeur de l’Amazonie brésilienne dans le village de Novo Futuro\, Etat de Acre. \n•⁠ ⁠Yubeni est un musicien et chanteur talentueux de son peuple\, reconnu entant que « Txana » pour être passeur de sa culture entre les peuples et territoires. Sa maîtrise exceptionnelle de l’instrument transcende les frontières culturelles\, invitant les auditeurs à s’embarquer pour un voyage singulier à travers les riches sonorités de son héritage indigène. \n•⁠ ⁠Il se réjouit de vous rencontrer et de partager avec vous les Sagesses Ancestrales de son peuples à travers ses chants et les danses de la forêt amazonienne. \n🌿 L’événement sera participatif\, ramenez vos instruments ! \n🌿 DATE : Jeudi 22 Février 2024 \n🌿 HORAIRE: 19H00-22H00 \n🌿 LIEU: Espace turquoises \nRue Peillonnex 26 \n1225 Chêne-Bourg\, Suisse \n🌿 INSCRIPTION \n•⁠ ⁠Mail à : Txana.mundo@gmail.com \n🌿 TARIF (Conseillé): 40 CHF adultes \n– Pour les personnes en difficultés financières (AVS\, Étudiants\,.chômage) merci de rentrer en contact par email. \n🌿 Vos enfants sont les bienvenus pour partager ce moment musicale. (valeur symbolique libre) \n🌿 Une vente d’artisanat Huni Kuin sera aussi en exposition. (Prévoir de l’espèce) \n🌿 Les fonds récoltés au cours de sa tournée serviront à développer l’autonomie alimentaire de son village.\n( En dehors des frais de mission) \n🌟 A l’occasion de sa tournée européenne\, Txana Yubeni Hunikuin sera présent dans le secteur de la suisse du 16 au 25 Fevrier 2024. \n•⁠ ⁠Retrouvez la programmation complète de tous nos événements qui suivront entre les Alpes Françaises\, la Suisse\, le Nord de la France\, la Belgique\, La Vendée\, Dordogne\, Sud de France et Portugal en partenariat avec différentes associations internationales (telles que Huma Terra\, Jiboiana\, Terra Do Sol\, FlorestaTV\, Phare…) via notre site internet: https://o-organismo.org \n🌞 chaleureusement 🌞 \nL’équipe « O Organismo » et partenaires
URL:https://o-organismo.org/evenements/cercles-de-chants-et-danses-sacrees-de-tradition-hunikuin/
LOCATION:Rue Peillonnex 26  1225 Chêne-Bourg\, Suisse\, 26 Rue Peillonnex\, Chêne-Bourg\, Suisse\, 1225
CATEGORIES:Yubeni huni kuin,Yubeni Suisse
ATTACH;FMTTYPE=image/jpeg:https://o-organismo.org/wp-content/uploads/2024/02/WhatsApp-Image-2024-02-21-at-14.58.39.jpeg
END:VEVENT
END:VCALENDAR